BEGIN:VCALENDAR
VERSION:2.0
PRODID:Events Booking
BEGIN:VEVENT
UID:69e86186ea7c1
SUMMARY:Békéscsabai RSE- BVSC-Zugló
DESCRIPTION:
LOCATION:Alföld és Észak\, Magyarország
DTSTART:20240224T170000Z
DTEND:20240224T190000Z
DTSTAMP:20230829T233644Z
ORGANIZER:MAILTO:noreply@bvsc.hu
GEO:46.6798;21.098543
X-APPLE-STRUCTURED-LOCATION;VALUE=URI;X-ADDRESS=Alföld és Észak\, Magyar
 ország;X-APPLE-RADIUS=72;X-TITLE=Békéscsaba:46.6798;21.098543
END:VEVENT
END:VCALENDAR