BEGIN:VCALENDAR
VERSION:2.0
PRODID:Events Booking
BEGIN:VEVENT
UID:69eba931ea1fd
SUMMARY:Birkózó kupa
DESCRIPTION:
LOCATION:Tatai u. 85\, 1142
DTSTART:20231216T070000Z
DTEND:20231216T150000Z
DTSTAMP:20231204T220415Z
ORGANIZER:MAILTO:noreply@bvsc.hu
END:VEVENT
END:VCALENDAR