BEGIN:VCALENDAR
VERSION:2.0
PRODID:Events Booking
BEGIN:VEVENT
UID:69e823969e51a
SUMMARY:Budaörsi DSE - BVSC-Zugló
DESCRIPTION:
DTSTART:20231028T173000Z
DTEND:20231028T190000Z
DTSTAMP:20230829T230629Z
ORGANIZER:MAILTO:noreply@bvsc.hu
END:VEVENT
END:VCALENDAR