BEGIN:VCALENDAR
VERSION:2.0
PRODID:Events Booking
BEGIN:VEVENT
UID:69e834b778c2a
SUMMARY:Budapest Honvéd - BVSC-Zugló
DESCRIPTION:
DTSTART:20231111T180000Z
DTEND:20231111T190000Z
DTSTAMP:20231021T114445Z
ORGANIZER:MAILTO:noreply@bvsc.hu
END:VEVENT
END:VCALENDAR