BEGIN:VCALENDAR
VERSION:2.0
PRODID:Events Booking
BEGIN:VEVENT
UID:69ec43f2c3ece
SUMMARY:BVSC Open 2023
DESCRIPTION:Idén is lesz ingyenes nyílt nap a BVSC Szőnyi úti Sportkomp
 lexumában\, ahol bemutatkoznak az egyesület szakosztályai! Várunk mind
 enkit szeptember 9-én 10-17 óráig!
 Ami biztosan lesz:
 - sportági b
 emutatók és foglalkozások – asztalitenisz\, birkózás\, karate\, K1-
 MMA\, labdarúgás\, ökölvívás\, padel\, szinkronúszás\, tenisz\, v
 ívás
 - mérkőzés látogatás – kézilabda\, röplabda\, vízilabda
  – utánpótlástornák
 - szabadidős sportolási lehetőségek – go
 mbfoci\, kültéri fitness park\, strandröplabda\, teqball
 Továbbá ta
 lálkozz a BVSC olimpikonjaival\, világ- és Európa-bajnokaival!
 Valam
 int szurkolj a BVSC csapatának!
 16.00 BVSC-Zugló – FTC-Telekom feln
 őtt női vízilabda mérkőzés
 Szeretettel várunk minden érdeklődő
 t szeptember 9-én!
LOCATION:Szőnyi út 2\, Budapest\, 1142 Közép-Magyarország\, Magyarorsz
 ág
DTSTART:20230909T080000Z
DTEND:20230809T150000Z
DTSTAMP:20230831T120535Z
ORGANIZER:MAILTO:noreply@bvsc.hu
GEO:47.522299;19.092857
X-APPLE-STRUCTURED-LOCATION;VALUE=URI;X-ADDRESS=Szőnyi út 2\, Budapest\, 
 1142 Közép-Magyarország\, Magyarország;X-APPLE-RADIUS=72;X-TITLE=Szőn
 yi út:47.522299;19.092857
END:VEVENT
END:VCALENDAR