BEGIN:VCALENDAR
VERSION:2.0
PRODID:Events Booking
BEGIN:VEVENT
UID:69e81bb120e25
SUMMARY:BVSC-Pallanuoto Trieste
DESCRIPTION:
LOCATION:Szőnyi út 2.
DTSTART:20231006T150000Z
DTEND:20231006T160000Z
DTSTAMP:20231002T124621Z
ORGANIZER:MAILTO:noreply@bvsc.hu
GEO:47.523093;19.092965
X-APPLE-STRUCTURED-LOCATION;VALUE=URI;X-ADDRESS=Szőnyi út 2.;X-APPLE-RADI
 US=72;X-TITLE=Laky Károly uszoda:47.523093;19.092965
END:VEVENT
END:VCALENDAR