BEGIN:VCALENDAR
VERSION:2.0
PRODID:Events Booking
BEGIN:VEVENT
UID:69e81c618f22f
SUMMARY:BVSC-UNI-Győr GYVSE - Magyar Kupa
DESCRIPTION:
DTSTART:20230916T150000Z
DTEND:20230916T160000Z
DTSTAMP:20230915T193226Z
ORGANIZER:MAILTO:noreply@bvsc.hu
END:VEVENT
END:VCALENDAR