BEGIN:VCALENDAR
VERSION:2.0
PRODID:Events Booking
BEGIN:VEVENT
UID:69e834b76894c
SUMMARY:BVSC-Zugló - Crvena Zvezda
DESCRIPTION:Euro kupa nyolcaddöntő
LOCATION:Szőnyi út 2.
DTSTART:20240308T190000Z
DTEND:20240308T200000Z
DTSTAMP:20240312T102022Z
ORGANIZER:MAILTO:noreply@bvsc.hu
GEO:47.523093;19.092965
X-APPLE-STRUCTURED-LOCATION;VALUE=URI;X-ADDRESS=Szőnyi út 2.;X-APPLE-RADI
 US=72;X-TITLE=Laky Károly uszoda:47.523093;19.092965
END:VEVENT
END:VCALENDAR