BEGIN:VCALENDAR
VERSION:2.0
PRODID:Events Booking
BEGIN:VEVENT
UID:69e81b735fdff
SUMMARY:BVSC-Zugló - DFVE
DESCRIPTION:
LOCATION:Szőnyi út 2.
DTSTART:20231025T180000Z
DTEND:20231025T190000Z
DTSTAMP:20231025T123235Z
ORGANIZER:MAILTO:noreply@bvsc.hu
GEO:47.523093;19.092965
X-APPLE-STRUCTURED-LOCATION;VALUE=URI;X-ADDRESS=Szőnyi út 2.;X-APPLE-RADI
 US=72;X-TITLE=Laky Károly uszoda:47.523093;19.092965
END:VEVENT
END:VCALENDAR