BEGIN:VCALENDAR
VERSION:2.0
PRODID:Events Booking
BEGIN:VEVENT
UID:69e806016016e
SUMMARY:BVSC-Zugló - Grand Nancy AC
DESCRIPTION:Eurokupa csoportmérkőzés\, 6. nap
DTSTART:20240322T160000Z
DTSTAMP:20240312T144019Z
ORGANIZER:MAILTO:noreply@bvsc.hu
END:VEVENT
END:VCALENDAR