BEGIN:VCALENDAR
VERSION:2.0
PRODID:Events Booking
BEGIN:VEVENT
UID:69e83477aa988
SUMMARY:BVSC-Zugló - OSC Újbuda
DESCRIPTION:
LOCATION:Szőnyi út 2.
DTSTART:20231129T190000Z
DTEND:20231129T200000Z
DTSTAMP:20231021T120725Z
ORGANIZER:MAILTO:noreply@bvsc.hu
GEO:47.523093;19.092965
X-APPLE-STRUCTURED-LOCATION;VALUE=URI;X-ADDRESS=Szőnyi út 2.;X-APPLE-RADI
 US=72;X-TITLE=Laky Károly uszoda:47.523093;19.092965
END:VEVENT
END:VCALENDAR