BEGIN:VCALENDAR
VERSION:2.0
PRODID:Events Booking
BEGIN:VEVENT
UID:69e81bdb1b76d
SUMMARY:BVSC-Zugló - Spandau 04 Berlin
DESCRIPTION:Eurokupa - Csoportkör\, 2. mérkőzés
LOCATION:Szőnyi út 2.
DTSTART:20231021T150000Z
DTEND:20231021T160000Z
DTSTAMP:20231019T090508Z
ORGANIZER:MAILTO:noreply@bvsc.hu
GEO:47.523093;19.092965
X-APPLE-STRUCTURED-LOCATION;VALUE=URI;X-ADDRESS=Szőnyi út 2.;X-APPLE-RADI
 US=72;X-TITLE=Laky Károly uszoda:47.523093;19.092965
END:VEVENT
END:VCALENDAR