BEGIN:VCALENDAR
VERSION:2.0
PRODID:Events Booking
BEGIN:VEVENT
UID:69e81c61b0cd1
SUMMARY:BVSC-Zugló - Szegedi Vízilabda Egylet
DESCRIPTION:
LOCATION:Szőnyi út 2\, Budapest\, 1142 Közép-Magyarország\, Magyarorsz
 ág
DTSTART:20231003T180000Z
DTEND:20231003T190000Z
DTSTAMP:20230829T225432Z
ORGANIZER:MAILTO:noreply@bvsc.hu
GEO:47.522299;19.092857
X-APPLE-STRUCTURED-LOCATION;VALUE=URI;X-ADDRESS=Szőnyi út 2\, Budapest\, 
 1142 Közép-Magyarország\, Magyarország;X-APPLE-RADIUS=72;X-TITLE=Szőn
 yi út:47.522299;19.092857
END:VEVENT
END:VCALENDAR