BEGIN:VCALENDAR
VERSION:2.0
PRODID:Events Booking
BEGIN:VEVENT
UID:69e808551445f
SUMMARY:BVSC-Zugló - TFSE
DESCRIPTION:
DTSTART:20240323T170000Z
DTEND:20240323T190000Z
DTSTAMP:20230829T234151Z
ORGANIZER:MAILTO:noreply@bvsc.hu
END:VEVENT
END:VCALENDAR