BEGIN:VCALENDAR
VERSION:2.0
PRODID:Events Booking
BEGIN:VEVENT
UID:69e81bb18b675
SUMMARY:BVSC-Zugló - UVSE
DESCRIPTION:BENU Magyar Kupa - Elődöntő
LOCATION:Szőnyi út 2.
DTSTART:20231110T183000Z
DTEND:20231110T193000Z
DTSTAMP:20231110T144758Z
ORGANIZER:MAILTO:noreply@bvsc.hu
GEO:47.523093;19.092965
X-APPLE-STRUCTURED-LOCATION;VALUE=URI;X-ADDRESS=Szőnyi út 2.;X-APPLE-RADI
 US=72;X-TITLE=Laky Károly uszoda:47.523093;19.092965
END:VEVENT
END:VCALENDAR