BEGIN:VCALENDAR
VERSION:2.0
PRODID:Events Booking
BEGIN:VEVENT
UID:69e81bff781f8
SUMMARY:BVSC-Zugló - Valdor Szentes
DESCRIPTION:BENU Női Magyar Kupa Negyeddöntő 3. csoport - 1. forduló
LOCATION:Szőnyi út 2.
DTSTART:20230929T180000Z
DTEND:20230929T190000Z
DTSTAMP:20230928T042320Z
ORGANIZER:MAILTO:noreply@bvsc.hu
GEO:47.523093;19.092965
X-APPLE-STRUCTURED-LOCATION;VALUE=URI;X-ADDRESS=Szőnyi út 2.;X-APPLE-RADI
 US=72;X-TITLE=Laky Károly uszoda:47.523093;19.092965
END:VEVENT
END:VCALENDAR