BEGIN:VCALENDAR
VERSION:2.0
PRODID:Events Booking
BEGIN:VEVENT
UID:69e823cfc31d3
SUMMARY:BVSC-Zugló - Vasas SC Óbuda
DESCRIPTION:Magyar Kupa  - 2 forduló
LOCATION:Szőnyi út 2\, Budapest\, 1142 Közép-Magyarország\, Magyarorsz
 ág
DTSTART:20231031T183000Z
DTEND:20231031T200000Z
DTSTAMP:20231019T085446Z
ORGANIZER:MAILTO:noreply@bvsc.hu
GEO:47.522299;19.092857
X-APPLE-STRUCTURED-LOCATION;VALUE=URI;X-ADDRESS=Szőnyi út 2\, Budapest\, 
 1142 Közép-Magyarország\, Magyarország;X-APPLE-RADIUS=72;X-TITLE=Szőn
 yi út:47.522299;19.092857
END:VEVENT
END:VCALENDAR