BEGIN:VCALENDAR
VERSION:2.0
PRODID:Events Booking
BEGIN:VEVENT
UID:69e834d614ec2
SUMMARY:BVSC-Zugló - Waterpolo Kaposvár
DESCRIPTION:
LOCATION:Szőnyi út 2.
DTSTART:20240302T160000Z
DTSTAMP:20240312T142424Z
ORGANIZER:MAILTO:noreply@bvsc.hu
GEO:47.523093;19.092965
X-APPLE-STRUCTURED-LOCATION;VALUE=URI;X-ADDRESS=Szőnyi út 2.;X-APPLE-RADI
 US=72;X-TITLE=Laky Károly uszoda:47.523093;19.092965
END:VEVENT
END:VCALENDAR