BEGIN:VCALENDAR
VERSION:2.0
PRODID:Events Booking
BEGIN:VEVENT
UID:69ebebe068da4
SUMMARY:BVSC-Zugló - TIGRA ZF EGER
DESCRIPTION:
LOCATION:Szőnyi út 2\, Budapest\, 1142 Közép-Magyarország\, Magyarorsz
 ág
DTSTART:20221022T150000Z
DTEND:20221022T160000Z
DTSTAMP:20260425T001704Z
ORGANIZER:MAILTO:noreply@bvsc.hu
GEO:47.522299;19.092857
X-APPLE-STRUCTURED-LOCATION;VALUE=URI;X-ADDRESS=Szőnyi út 2\, Budapest\, 
 1142 Közép-Magyarország\, Magyarország;X-APPLE-RADIUS=72;X-TITLE=Szőn
 yi út:47.522299;19.092857
END:VEVENT
END:VCALENDAR