BEGIN:VCALENDAR
VERSION:2.0
PRODID:Events Booking
BEGIN:VEVENT
UID:69e8060679bde
SUMMARY:Crvena zvezda - BVSC-Zugló
DESCRIPTION:Eurokupa nyolcaddöntő 2. mérkőzés
DTSTART:20240323T160000Z
DTSTAMP:20240312T143900Z
ORGANIZER:MAILTO:noreply@bvsc.hu
END:VEVENT
END:VCALENDAR