BEGIN:VCALENDAR
VERSION:2.0
PRODID:Events Booking
BEGIN:VEVENT
UID:69e8046baf27b
SUMMARY:Dunaújváros FVE - BVSC-Zugló
DESCRIPTION:
DTSTART:20240320T180000Z
DTSTAMP:20240312T144152Z
ORGANIZER:MAILTO:noreply@bvsc.hu
END:VEVENT
END:VCALENDAR