BEGIN:VCALENDAR
VERSION:2.0
PRODID:Events Booking
BEGIN:VEVENT
UID:69e8347868638
SUMMARY:FTC - BVSC-Zugló
DESCRIPTION:
DTSTART:20231028T140000Z
DTEND:20231028T150000Z
DTSTAMP:20231021T113853Z
ORGANIZER:MAILTO:noreply@bvsc.hu
END:VEVENT
END:VCALENDAR