BEGIN:VCALENDAR
VERSION:2.0
PRODID:Events Booking
BEGIN:VEVENT
UID:69e81bd45e524
SUMMARY:Gödöllői RC - BVSC-Zugló
DESCRIPTION:
DTSTART:20240316T160000Z
DTEND:20240316T180000Z
DTSTAMP:20230829T234015Z
ORGANIZER:MAILTO:noreply@bvsc.hu
END:VEVENT
END:VCALENDAR