BEGIN:VCALENDAR
VERSION:2.0
PRODID:Events Booking
BEGIN:VEVENT
UID:69ebe9d2a646b
SUMMARY:Fiú Gyermek Final8
DESCRIPTION:
LOCATION:Szolnok\, 5000 Alföld és Észak\, Magyarország
DTSTART:20220519T220000Z
DTEND:20220521T220000Z
DTSTAMP:20220520T112455Z
ORGANIZER:MAILTO:Rendszerüzenet - BVSC Zugló
GEO:47.175383;20.194628
X-APPLE-STRUCTURED-LOCATION;VALUE=URI;X-ADDRESS=Szolnok\, 5000 Alföld és 
 Észak\, Magyarország;X-APPLE-RADIUS=72;X-TITLE=Szolnok:47.175383;20.1946
 28
END:VEVENT
BEGIN:VEVENT
UID:69ebe9d2a64d3
SUMMARY:MAFC-BME-BVSC
DESCRIPTION:
LOCATION:Budapest\, Könyves Kálmán krt. 26\, 1097
DTSTART:20220522T163000Z
DTEND:20220522T173000Z
DTSTAMP:20220520T114554Z
ORGANIZER:MAILTO:Rendszerüzenet - BVSC Zugló
GEO:47.471139;19.089173
X-APPLE-STRUCTURED-LOCATION;VALUE=URI;X-ADDRESS=Budapest\, Könyves Kálmá
 n krt. 26\, 1097;X-APPLE-RADIUS=72;X-TITLE=Emszt Kálmánné Sportcsarnok:
 47.471139;19.089173
END:VEVENT
BEGIN:VEVENT
UID:69ebe9d2a64f4
SUMMARY:Oritigia - BVSC-Zugló
DESCRIPTION:
DTSTART:20221028T080000Z
DTEND:20221029T090000Z
DTSTAMP:20260425T000818Z
ORGANIZER:MAILTO:Rendszerüzenet - BVSC Zugló
END:VEVENT
BEGIN:VEVENT
UID:69ebe9d2a6509
SUMMARY:VS Dunakeszi - BVSC-Zugló
DESCRIPTION:
DTSTART:20230907T160000Z
DTEND:20230907T180000Z
DTSTAMP:20230830T000228Z
ORGANIZER:MAILTO:Rendszerüzenet - BVSC Zugló
END:VEVENT
BEGIN:VEVENT
UID:69ebe9d2a6526
SUMMARY:Budakalászi SC 1995  - BVSC-Zugló
DESCRIPTION:
DTSTART:20230909T160000Z
DTEND:20230909T180000Z
DTSTAMP:20230829T235658Z
ORGANIZER:MAILTO:Rendszerüzenet - BVSC Zugló
END:VEVENT
BEGIN:VEVENT
UID:69ebe9d2a6543
SUMMARY:BVSC-Zugló - Kistext
DESCRIPTION:
LOCATION:Szőnyi út 2\, Budapest\, 1142 Közép-Magyarország\, Magyarorsz
 ág
DTSTART:20230916T163000Z
DTEND:20230916T180000Z
DTSTAMP:20230829T235824Z
ORGANIZER:MAILTO:Rendszerüzenet - BVSC Zugló
GEO:47.522299;19.092857
X-APPLE-STRUCTURED-LOCATION;VALUE=URI;X-ADDRESS=Szőnyi út 2\, Budapest\, 
 1142 Közép-Magyarország\, Magyarország;X-APPLE-RADIUS=72;X-TITLE=Szőn
 yi út:47.522299;19.092857
END:VEVENT
BEGIN:VEVENT
UID:69ebe9d2a6560
SUMMARY:BVSC-Zugló - FTC U21
DESCRIPTION:
LOCATION:Szőnyi út 2\, Budapest\, 1142 Közép-Magyarország\, Magyarorsz
 ág
DTSTART:20230923T163000Z
DTEND:20230923T180000Z
DTSTAMP:20230830T000037Z
ORGANIZER:MAILTO:Rendszerüzenet - BVSC Zugló
GEO:47.522299;19.092857
X-APPLE-STRUCTURED-LOCATION;VALUE=URI;X-ADDRESS=Szőnyi út 2\, Budapest\, 
 1142 Közép-Magyarország\, Magyarország;X-APPLE-RADIUS=72;X-TITLE=Szőn
 yi út:47.522299;19.092857
END:VEVENT
BEGIN:VEVENT
UID:69ebe9d2a657d
SUMMARY:VS Dunakeszi - BVSC-Zugló
DESCRIPTION:
DTSTART:20231007T160000Z
DTEND:20231007T173000Z
DTSTAMP:20231002T124858Z
ORGANIZER:MAILTO:Rendszerüzenet - BVSC Zugló
END:VEVENT
BEGIN:VEVENT
UID:69ebe9d2a659a
SUMMARY:MÁV Előre Cunder Kézisuli - BVSC-Zugló
DESCRIPTION:
DTSTART:20231014T130000Z
DTEND:20231014T150000Z
DTSTAMP:20230830T000355Z
ORGANIZER:MAILTO:Rendszerüzenet - BVSC Zugló
END:VEVENT
BEGIN:VEVENT
UID:69ebe9d2a65bd
SUMMARY:BVSC-Zugló - Budapest Honvéd
DESCRIPTION:
LOCATION:Szőnyi út 2\, Budapest\, 1142 Közép-Magyarország\, Magyarorsz
 ág
DTSTART:20231029T170000Z
DTEND:20231029T190000Z
DTSTAMP:20230830T000523Z
ORGANIZER:MAILTO:Rendszerüzenet - BVSC Zugló
GEO:47.522299;19.092857
X-APPLE-STRUCTURED-LOCATION;VALUE=URI;X-ADDRESS=Szőnyi út 2\, Budapest\, 
 1142 Közép-Magyarország\, Magyarország;X-APPLE-RADIUS=72;X-TITLE=Szőn
 yi út:47.522299;19.092857
END:VEVENT
BEGIN:VEVENT
UID:69ebe9d2a65da
SUMMARY:BVSC-Zugló - TFSE
DESCRIPTION:
DTSTART:20231111T173000Z
DTEND:20231111T190000Z
DTSTAMP:20230830T000705Z
ORGANIZER:MAILTO:Rendszerüzenet - BVSC Zugló
END:VEVENT
BEGIN:VEVENT
UID:69ebe9d2a65f7
SUMMARY:BVSC-Zugló - Budakalászi SC1995
DESCRIPTION:
LOCATION:Szőnyi út 2\, Budapest\, 1142 Közép-Magyarország\, Magyarorsz
 ág
DTSTART:20231119T173000Z
DTEND:20231119T190000Z
DTSTAMP:20230830T004627Z
ORGANIZER:MAILTO:Rendszerüzenet - BVSC Zugló
GEO:47.522299;19.092857
X-APPLE-STRUCTURED-LOCATION;VALUE=URI;X-ADDRESS=Szőnyi út 2\, Budapest\, 
 1142 Közép-Magyarország\, Magyarország;X-APPLE-RADIUS=72;X-TITLE=Szőn
 yi út:47.522299;19.092857
END:VEVENT
BEGIN:VEVENT
UID:69ebe9d2a6614
SUMMARY:Kistext - BVSC-Zugló
DESCRIPTION:
DTSTART:20231125T100000Z
DTEND:20231125T120000Z
DTSTAMP:20230830T005051Z
ORGANIZER:MAILTO:Rendszerüzenet - BVSC Zugló
END:VEVENT
BEGIN:VEVENT
UID:69ebe9d2a6630
SUMMARY:FTC U21 - BVSC-Zugló
DESCRIPTION:
DTSTART:20231202T170000Z
DTEND:20231202T190000Z
DTSTAMP:20230830T004848Z
ORGANIZER:MAILTO:Rendszerüzenet - BVSC Zugló
END:VEVENT
END:VCALENDAR