BEGIN:VCALENDAR
VERSION:2.0
PRODID:Events Booking
BEGIN:VEVENT
UID:69ebe9d22bd10
SUMMARY:Női Serdülő Final8
DESCRIPTION:
LOCATION:Margitsziget\, Budapest\, 1007 Közép-Magyarország\, Magyarorsz
 ág
DTSTART:20220519T220000Z
DTEND:20220521T220000Z
DTSTAMP:20220520T112455Z
ORGANIZER:MAILTO:Rendszerüzenet - BVSC Zugló
GEO:47.521572;19.043285
X-APPLE-STRUCTURED-LOCATION;VALUE=URI;X-ADDRESS=Margitsziget\, Budapest\, 1
 007 Közép-Magyarország\, Magyarország;X-APPLE-RADIUS=72;X-TITLE=Hajós
  Alfréd Uszoda:47.521572;19.043285
END:VEVENT
BEGIN:VEVENT
UID:69ebe9d22bd9d
SUMMARY:BVSC-Zugló - TIGRA ZF EGER
DESCRIPTION:
LOCATION:Szőnyi út 2\, Budapest\, 1142 Közép-Magyarország\, Magyarorsz
 ág
DTSTART:20221022T150000Z
DTEND:20221022T160000Z
DTSTAMP:20260425T000818Z
ORGANIZER:MAILTO:Rendszerüzenet - BVSC Zugló
GEO:47.522299;19.092857
X-APPLE-STRUCTURED-LOCATION;VALUE=URI;X-ADDRESS=Szőnyi út 2\, Budapest\, 
 1142 Közép-Magyarország\, Magyarország;X-APPLE-RADIUS=72;X-TITLE=Szőn
 yi út:47.522299;19.092857
END:VEVENT
BEGIN:VEVENT
UID:69ebe9d22bdb9
SUMMARY:Ceglédi Kék Cápák-BVSC
DESCRIPTION:
DTSTART:20230916T140000Z
DTEND:20230916T160000Z
DTSTAMP:20230911T193128Z
ORGANIZER:MAILTO:Rendszerüzenet - BVSC Zugló
END:VEVENT
BEGIN:VEVENT
UID:69ebe9d22bdd7
SUMMARY:BVSC-Zugló - INÁRCS
DESCRIPTION:
LOCATION:Szőnyi út 2\, Budapest\, 1142 Közép-Magyarország\, Magyarorsz
 ág
DTSTART:20230930T163000Z
DTEND:20230930T180000Z
DTSTAMP:20230915T194825Z
ORGANIZER:MAILTO:Rendszerüzenet - BVSC Zugló
GEO:47.522299;19.092857
X-APPLE-STRUCTURED-LOCATION;VALUE=URI;X-ADDRESS=Szőnyi út 2\, Budapest\, 
 1142 Közép-Magyarország\, Magyarország;X-APPLE-RADIUS=72;X-TITLE=Szőn
 yi út:47.522299;19.092857
END:VEVENT
BEGIN:VEVENT
UID:69ebe9d22bdf4
SUMMARY:BVSC-Zugló - Vecsés
DESCRIPTION:
LOCATION:Szőnyi út 2\, Budapest\, 1142 Közép-Magyarország\, Magyarorsz
 ág
DTSTART:20231007T163000Z
DTEND:20231007T180000Z
DTSTAMP:20230915T194921Z
ORGANIZER:MAILTO:Rendszerüzenet - BVSC Zugló
GEO:47.522299;19.092857
X-APPLE-STRUCTURED-LOCATION;VALUE=URI;X-ADDRESS=Szőnyi út 2\, Budapest\, 
 1142 Közép-Magyarország\, Magyarország;X-APPLE-RADIUS=72;X-TITLE=Szőn
 yi út:47.522299;19.092857
END:VEVENT
BEGIN:VEVENT
UID:69ebe9d22be11
SUMMARY:BVSC-Zugló - EURONOVEX USE
DESCRIPTION:
DTSTART:20231028T163000Z
DTEND:20231028T180000Z
DTSTAMP:20230915T195020Z
ORGANIZER:MAILTO:Rendszerüzenet - BVSC Zugló
END:VEVENT
BEGIN:VEVENT
UID:69ebe9d22be2e
SUMMARY:Malév Sport Club - BVSC-zugló
DESCRIPTION:
DTSTART:20231103T190000Z
DTEND:20231103T203000Z
DTSTAMP:20231019T115342Z
ORGANIZER:MAILTO:Rendszerüzenet - BVSC Zugló
END:VEVENT
BEGIN:VEVENT
UID:69ebe9d22be4b
SUMMARY:Rákosmente KSE - BVSC-Zugló
DESCRIPTION:
DTSTART:20231112T160000Z
DTEND:20231112T173000Z
DTSTAMP:20231019T115539Z
ORGANIZER:MAILTO:Rendszerüzenet - BVSC Zugló
END:VEVENT
BEGIN:VEVENT
UID:69ebe9d22be67
SUMMARY:BVSC-Zugló -  Ceglédi Kék Cápák
DESCRIPTION:
LOCATION:Szőnyi út 2\, Budapest\, 1142 Közép-Magyarország\, Magyarorsz
 ág
DTSTART:20231118T173000Z
DTEND:20231118T180000Z
DTSTAMP:20231019T115732Z
ORGANIZER:MAILTO:Rendszerüzenet - BVSC Zugló
GEO:47.522299;19.092857
X-APPLE-STRUCTURED-LOCATION;VALUE=URI;X-ADDRESS=Szőnyi út 2\, Budapest\, 
 1142 Közép-Magyarország\, Magyarország;X-APPLE-RADIUS=72;X-TITLE=Szőn
 yi út:47.522299;19.092857
END:VEVENT
BEGIN:VEVENT
UID:69ebe9d22be84
SUMMARY:BVSC-Zugló - Kecskeméti Női Kézilabda Sportegyesület 
DESCRIPTION:
LOCATION:Szőnyi út 2\, Budapest\, 1142 Közép-Magyarország\, Magyarorsz
 ág
DTSTART:20231202T173000Z
DTEND:20231202T190000Z
DTSTAMP:20230915T195211Z
ORGANIZER:MAILTO:Rendszerüzenet - BVSC Zugló
GEO:47.522299;19.092857
X-APPLE-STRUCTURED-LOCATION;VALUE=URI;X-ADDRESS=Szőnyi út 2\, Budapest\, 
 1142 Közép-Magyarország\, Magyarország;X-APPLE-RADIUS=72;X-TITLE=Szőn
 yi út:47.522299;19.092857
END:VEVENT
END:VCALENDAR