BEGIN:VCALENDAR
VERSION:2.0
PRODID:Events Booking
BEGIN:VEVENT
UID:69e823ee35351
SUMMARY:Kispest SE - BVSC-Zugló
DESCRIPTION:Magyar Kupa
LOCATION:Villányi út\, Budapest\, 1114 Közép-Magyarország\, Magyarorsz
 ág
DTSTART:20231010T173000Z
DTEND:20231010T190000Z
DTSTAMP:20231002T132155Z
ORGANIZER:MAILTO:noreply@bvsc.hu
GEO:47.478901;19.04525
X-APPLE-STRUCTURED-LOCATION;VALUE=URI;X-ADDRESS=Villányi út\, Budapest\, 
 1114 Közép-Magyarország\, Magyarország;X-APPLE-RADIUS=72;X-TITLE=Szent
  Gellért Sportcsarnok:47.478901;19.04525
END:VEVENT
END:VCALENDAR