BEGIN:VCALENDAR
VERSION:2.0
PRODID:Events Booking
BEGIN:VEVENT
UID:69e823d4593a1
SUMMARY:Kispest SE - BVSC-Zugló
DESCRIPTION:
LOCATION:Villányi út\, Budapest\, 1114 Közép-Magyarország\, Magyarorsz
 ág
DTSTART:20231022T130000Z
DTEND:20231022T150000Z
DTSTAMP:20230829T230447Z
ORGANIZER:MAILTO:noreply@bvsc.hu
GEO:47.478901;19.04525
X-APPLE-STRUCTURED-LOCATION;VALUE=URI;X-ADDRESS=Villányi út\, Budapest\, 
 1114 Közép-Magyarország\, Magyarország;X-APPLE-RADIUS=72;X-TITLE=Szent
  Gellért Sportcsarnok:47.478901;19.04525
END:VEVENT
END:VCALENDAR