BEGIN:VCALENDAR
VERSION:2.0
PRODID:Events Booking
BEGIN:VEVENT
UID:69e82329426c4
SUMMARY:Kispest SE-BVSC
DESCRIPTION:
LOCATION:Villányi út\, Budapest\, 1114 Közép-Magyarország\, Magyarorsz
 ág
DTSTART:20220521T150000Z
DTEND:20220521T163000Z
DTSTAMP:20220520T114554Z
ORGANIZER:MAILTO:noreply@bvsc.hu
GEO:47.478901;19.04525
X-APPLE-STRUCTURED-LOCATION;VALUE=URI;X-ADDRESS=Villányi út\, Budapest\, 
 1114 Közép-Magyarország\, Magyarország;X-APPLE-RADIUS=72;X-TITLE=Szent
  Gellért Sportcsarnok:47.478901;19.04525
END:VEVENT
END:VCALENDAR