BEGIN:VCALENDAR
VERSION:2.0
PRODID:Events Booking
BEGIN:VEVENT
UID:69ec03703442c
SUMMARY:Kistext - BVSC-Zugló
DESCRIPTION:
DTSTART:20231125T100000Z
DTEND:20231125T120000Z
DTSTAMP:20230830T005051Z
ORGANIZER:MAILTO:noreply@bvsc.hu
END:VEVENT
END:VCALENDAR