BEGIN:VCALENDAR
VERSION:2.0
PRODID:Events Booking
BEGIN:VEVENT
UID:69e83488e64c7
SUMMARY:KSI SE - BVSC-Zugló
DESCRIPTION:
DTSTART:20231014T093000Z
DTEND:20231014T103000Z
DTSTAMP:20231002T132848Z
ORGANIZER:MAILTO:noreply@bvsc.hu
END:VEVENT
END:VCALENDAR