BEGIN:VCALENDAR
VERSION:2.0
PRODID:Events Booking
BEGIN:VEVENT
UID:69e8221b81347
SUMMARY:BVSC-Zugló - FC Hatvan 
DESCRIPTION:
DTSTART:20230917T140000Z
DTEND:20230917T160000Z
DTSTAMP:20230915T193509Z
ORGANIZER:MAILTO:Rendszerüzenet - BVSC Zugló
END:VEVENT
BEGIN:VEVENT
UID:69e8221b813b0
SUMMARY:BVSC-Zugló - Budapest Honvéd 
DESCRIPTION:
LOCATION:1142 Budapest\, Tatai út 3/b
DTSTART:20231008T140000Z
DTEND:20231008T160000Z
DTSTAMP:20231002T131029Z
ORGANIZER:MAILTO:Rendszerüzenet - BVSC Zugló
GEO:47.528355;19.089137
X-APPLE-STRUCTURED-LOCATION;VALUE=URI;X-ADDRESS=1142 Budapest\, Tatai út 3
 /b;X-APPLE-RADIUS=72;X-TITLE=BVSC Utánpótlás Labdarúgó Centrum:47.528
 355;19.089137
END:VEVENT
BEGIN:VEVENT
UID:69e8221b813da
SUMMARY:Szolnoki MÁV Utánpótlás FC-BVSC
DESCRIPTION:
LOCATION:Szolnok\, 5000 Alföld és Észak\, Magyarország
DTSTART:20231014T113000Z
DTEND:20231014T133000Z
DTSTAMP:20231002T134515Z
ORGANIZER:MAILTO:Rendszerüzenet - BVSC Zugló
GEO:47.175383;20.194628
X-APPLE-STRUCTURED-LOCATION;VALUE=URI;X-ADDRESS=Szolnok\, 5000 Alföld és 
 Észak\, Magyarország;X-APPLE-RADIUS=72;X-TITLE=Szolnok:47.175383;20.1946
 28
END:VEVENT
BEGIN:VEVENT
UID:69e8221b813f9
SUMMARY:BVSC-Zugló - Valdor Szentes
DESCRIPTION:
LOCATION:Szőnyi út 2.
DTSTART:20240330T160000Z
DTSTAMP:20240312T143701Z
ORGANIZER:MAILTO:Rendszerüzenet - BVSC Zugló
GEO:47.523093;19.092965
X-APPLE-STRUCTURED-LOCATION;VALUE=URI;X-ADDRESS=Szőnyi út 2.;X-APPLE-RADI
 US=72;X-TITLE=Laky Károly uszoda:47.523093;19.092965
END:VEVENT
END:VCALENDAR