BEGIN:VCALENDAR
VERSION:2.0
PRODID:Events Booking
BEGIN:VEVENT
UID:69ec19afdf0f1
SUMMARY:Puskás Akadémia II-BVSC
DESCRIPTION:
LOCATION:Fő utca\, Felcsút\, 8086 Dunántúl\, Magyarország
DTSTART:20220522T090000Z
DTEND:20220522T103000Z
DTSTAMP:20220520T114554Z
ORGANIZER:MAILTO:Rendszerüzenet - BVSC Zugló
GEO:47.463407;18.584975
X-APPLE-STRUCTURED-LOCATION;VALUE=URI;X-ADDRESS=Fő utca\, Felcsút\, 8086 
 Dunántúl\, Magyarország;X-APPLE-RADIUS=72;X-TITLE=Pancho Aréna:47.4634
 07;18.584975
END:VEVENT
BEGIN:VEVENT
UID:69ec19afdf15d
SUMMARY:BVSC-ZTE FC II
DESCRIPTION:
LOCATION:Szőnyi út 2\, Budapest\, 1142 Közép-Magyarország\, Magyarorsz
 ág
DTSTART:20220529T150000Z
DTEND:20220529T163000Z
DTSTAMP:20220520T114554Z
ORGANIZER:MAILTO:Rendszerüzenet - BVSC Zugló
GEO:47.522299;19.092857
X-APPLE-STRUCTURED-LOCATION;VALUE=URI;X-ADDRESS=Szőnyi út 2\, Budapest\, 
 1142 Közép-Magyarország\, Magyarország;X-APPLE-RADIUS=72;X-TITLE=Szőn
 yi út:47.522299;19.092857
END:VEVENT
BEGIN:VEVENT
UID:69ec19afdf178
SUMMARY:Halloween Football Cup
DESCRIPTION:Hagyományteremtő szándékkal megrendezésre kerülő 44 csap
 atos utánpótlás labdarúgó torna.
LOCATION:Szőnyi út 2\, Budapest\, 1142 Közép-Magyarország\, Magyarorsz
 ág
DTSTART:20221031T080000Z
DTEND:20221031T170000Z
DTSTAMP:20221019T130932Z
ORGANIZER:MAILTO:Rendszerüzenet - BVSC Zugló
GEO:47.522299;19.092857
X-APPLE-STRUCTURED-LOCATION;VALUE=URI;X-ADDRESS=Szőnyi út 2\, Budapest\, 
 1142 Közép-Magyarország\, Magyarország;X-APPLE-RADIUS=72;X-TITLE=Szőn
 yi út:47.522299;19.092857
END:VEVENT
BEGIN:VEVENT
UID:69ec19afdf198
SUMMARY:BVSC-Zugló–Szeged-Csanád Grosics Akadémia
DESCRIPTION:
LOCATION:Szőnyi út 2\, Budapest\, 1142 Közép-Magyarország\, Magyarorsz
 ág
DTSTART:20230819T153000Z
DTEND:20230819T170000Z
DTSTAMP:20230819T141144Z
ORGANIZER:MAILTO:Rendszerüzenet - BVSC Zugló
GEO:47.522299;19.092857
X-APPLE-STRUCTURED-LOCATION;VALUE=URI;X-ADDRESS=Szőnyi út 2\, Budapest\, 
 1142 Közép-Magyarország\, Magyarország;X-APPLE-RADIUS=72;X-TITLE=Szőn
 yi út:47.522299;19.092857
END:VEVENT
BEGIN:VEVENT
UID:69ec19afdf1b9
SUMMARY:BVSC-Zugló - Pécsi MFC
DESCRIPTION:
LOCATION:Szőnyi út 2\, Budapest\, 1142 Közép-Magyarország\, Magyarorsz
 ág
DTSTART:20230903T140000Z
DTEND:20230903T160000Z
DTSTAMP:20230829T115637Z
ORGANIZER:MAILTO:Rendszerüzenet - BVSC Zugló
GEO:47.522299;19.092857
X-APPLE-STRUCTURED-LOCATION;VALUE=URI;X-ADDRESS=Szőnyi út 2\, Budapest\, 
 1142 Közép-Magyarország\, Magyarország;X-APPLE-RADIUS=72;X-TITLE=Szőn
 yi út:47.522299;19.092857
END:VEVENT
BEGIN:VEVENT
UID:69ec19afdf1d7
SUMMARY:Szentlőrinc-BVSC - Magyar Kupa
DESCRIPTION:
DTSTART:20230917T130000Z
DTEND:20230917T150000Z
DTSTAMP:20230915T193342Z
ORGANIZER:MAILTO:Rendszerüzenet - BVSC Zugló
END:VEVENT
BEGIN:VEVENT
UID:69ec19afdf209
SUMMARY:BVSC-Zugló - FC Hatvan 
DESCRIPTION:
DTSTART:20230917T140000Z
DTEND:20230917T160000Z
DTSTAMP:20230915T193509Z
ORGANIZER:MAILTO:Rendszerüzenet - BVSC Zugló
END:VEVENT
BEGIN:VEVENT
UID:69ec19afdf269
SUMMARY:Kazincbarcika SC - BVSC-Zugló
DESCRIPTION:	
DTSTART:20230924T150000Z
DTEND:20230829T170000Z
DTSTAMP:20230829T115928Z
ORGANIZER:MAILTO:Rendszerüzenet - BVSC Zugló
END:VEVENT
BEGIN:VEVENT
UID:69ec19afdf29a
SUMMARY:BVSC-Zugló - Vasas SC
DESCRIPTION:
LOCATION:Szőnyi út 2\, Budapest\, 1142 Közép-Magyarország\, Magyarorsz
 ág
DTSTART:20230927T140000Z
DTEND:20230927T160000Z
DTSTAMP:20230829T120109Z
ORGANIZER:MAILTO:Rendszerüzenet - BVSC Zugló
GEO:47.522299;19.092857
X-APPLE-STRUCTURED-LOCATION;VALUE=URI;X-ADDRESS=Szőnyi út 2\, Budapest\, 
 1142 Közép-Magyarország\, Magyarország;X-APPLE-RADIUS=72;X-TITLE=Szőn
 yi út:47.522299;19.092857
END:VEVENT
BEGIN:VEVENT
UID:69ec19afdf2c8
SUMMARY:Dunamenti Liga:U7 korosztály
DESCRIPTION:
LOCATION:Szőnyi út 2\, Budapest\, 1142 Közép-Magyarország\, Magyarorsz
 ág
DTSTART:20231001T070000Z
DTEND:20231001T110000Z
DTSTAMP:20231005T192415Z
ORGANIZER:MAILTO:Rendszerüzenet - BVSC Zugló
GEO:47.522299;19.092857
X-APPLE-STRUCTURED-LOCATION;VALUE=URI;X-ADDRESS=Szőnyi út 2\, Budapest\, 
 1142 Közép-Magyarország\, Magyarország;X-APPLE-RADIUS=72;X-TITLE=Szőn
 yi út:47.522299;19.092857
END:VEVENT
BEGIN:VEVENT
UID:69ec19afdf2f4
SUMMARY:FC Ajka - BVSC-Zugló
DESCRIPTION:
DTSTART:20231001T150000Z
DTEND:20231001T170000Z
DTSTAMP:20230829T120219Z
ORGANIZER:MAILTO:Rendszerüzenet - BVSC Zugló
END:VEVENT
BEGIN:VEVENT
UID:69ec19afdf31f
SUMMARY:BVSC-Zugló - Gyirmót FC Győr
DESCRIPTION:
LOCATION:Szőnyi út 2\, Budapest\, 1142 Közép-Magyarország\, Magyarorsz
 ág
DTSTART:20231008T130000Z
DTEND:20231008T150000Z
DTSTAMP:20231002T125509Z
ORGANIZER:MAILTO:Rendszerüzenet - BVSC Zugló
GEO:47.522299;19.092857
X-APPLE-STRUCTURED-LOCATION;VALUE=URI;X-ADDRESS=Szőnyi út 2\, Budapest\, 
 1142 Közép-Magyarország\, Magyarország;X-APPLE-RADIUS=72;X-TITLE=Szőn
 yi út:47.522299;19.092857
END:VEVENT
BEGIN:VEVENT
UID:69ec19afdf34b
SUMMARY:BVSC-Zugló - Budapest Honvéd 
DESCRIPTION:
LOCATION:1142 Budapest\, Tatai út 3/b
DTSTART:20231008T140000Z
DTEND:20231008T160000Z
DTSTAMP:20231002T131029Z
ORGANIZER:MAILTO:Rendszerüzenet - BVSC Zugló
GEO:47.528355;19.089137
X-APPLE-STRUCTURED-LOCATION;VALUE=URI;X-ADDRESS=1142 Budapest\, Tatai út 3
 /b;X-APPLE-RADIUS=72;X-TITLE=BVSC Utánpótlás Labdarúgó Centrum:47.528
 355;19.089137
END:VEVENT
BEGIN:VEVENT
UID:69ec19afdf376
SUMMARY:Szolnoki MÁV Utánpótlás FC-BVSC
DESCRIPTION:
LOCATION:Szolnok\, 5000 Alföld és Észak\, Magyarország
DTSTART:20231014T113000Z
DTEND:20231014T133000Z
DTSTAMP:20231002T134515Z
ORGANIZER:MAILTO:Rendszerüzenet - BVSC Zugló
GEO:47.175383;20.194628
X-APPLE-STRUCTURED-LOCATION;VALUE=URI;X-ADDRESS=Szolnok\, 5000 Alföld és 
 Észak\, Magyarország;X-APPLE-RADIUS=72;X-TITLE=Szolnok:47.175383;20.1946
 28
END:VEVENT
BEGIN:VEVENT
UID:69ec19afdf39a
SUMMARY:Dunamenti Liga:U7 korosztály
DESCRIPTION:
LOCATION:Szőnyi út 2\, Budapest\, 1142 Közép-Magyarország\, Magyarorsz
 ág
DTSTART:20231015T070000Z
DTEND:20231015T110000Z
DTSTAMP:20231005T192445Z
ORGANIZER:MAILTO:Rendszerüzenet - BVSC Zugló
GEO:47.522299;19.092857
X-APPLE-STRUCTURED-LOCATION;VALUE=URI;X-ADDRESS=Szőnyi út 2\, Budapest\, 
 1142 Közép-Magyarország\, Magyarország;X-APPLE-RADIUS=72;X-TITLE=Szőn
 yi út:47.522299;19.092857
END:VEVENT
BEGIN:VEVENT
UID:69ec19afdf3be
SUMMARY:BVSC-Zugló - BFC Siófok
DESCRIPTION:
LOCATION:Szőnyi út 2\, Budapest\, 1142 Közép-Magyarország\, Magyarorsz
 ág
DTSTART:20231022T110000Z
DTEND:20231022T130000Z
DTSTAMP:20230829T223852Z
ORGANIZER:MAILTO:Rendszerüzenet - BVSC Zugló
GEO:47.522299;19.092857
X-APPLE-STRUCTURED-LOCATION;VALUE=URI;X-ADDRESS=Szőnyi út 2\, Budapest\, 
 1142 Közép-Magyarország\, Magyarország;X-APPLE-RADIUS=72;X-TITLE=Szőn
 yi út:47.522299;19.092857
END:VEVENT
BEGIN:VEVENT
UID:69ec19afdf3e9
SUMMARY:FC Csákvár - BVSC-Zugló
DESCRIPTION:
DTSTART:20231029T120000Z
DTEND:20231029T140000Z
DTSTAMP:20230829T224221Z
ORGANIZER:MAILTO:Rendszerüzenet - BVSC Zugló
END:VEVENT
BEGIN:VEVENT
UID:69ec19afdf40d
SUMMARY:Dunamenti Liga:U7 korosztály
DESCRIPTION:
LOCATION:Szőnyi út 2\, Budapest\, 1142 Közép-Magyarország\, Magyarorsz
 ág
DTSTART:20231104T080000Z
DTEND:20231104T120000Z
DTSTAMP:20231005T192508Z
ORGANIZER:MAILTO:Rendszerüzenet - BVSC Zugló
GEO:47.522299;19.092857
X-APPLE-STRUCTURED-LOCATION;VALUE=URI;X-ADDRESS=Szőnyi út 2\, Budapest\, 
 1142 Közép-Magyarország\, Magyarország;X-APPLE-RADIUS=72;X-TITLE=Szőn
 yi út:47.522299;19.092857
END:VEVENT
BEGIN:VEVENT
UID:69ec19afdf431
SUMMARY:BVSC-Zugló - HR Rent Kozármisleny
DESCRIPTION:
LOCATION:Szőnyi út 2\, Budapest\, 1142 Közép-Magyarország\, Magyarorsz
 ág
DTSTART:20231105T120000Z
DTEND:20231105T160000Z
DTSTAMP:20230829T224339Z
ORGANIZER:MAILTO:Rendszerüzenet - BVSC Zugló
GEO:47.522299;19.092857
X-APPLE-STRUCTURED-LOCATION;VALUE=URI;X-ADDRESS=Szőnyi út 2\, Budapest\, 
 1142 Közép-Magyarország\, Magyarország;X-APPLE-RADIUS=72;X-TITLE=Szőn
 yi út:47.522299;19.092857
END:VEVENT
BEGIN:VEVENT
UID:69ec19afdf455
SUMMARY:Nyíregyháza Spartacus FC - BVSC-Zugló
DESCRIPTION:
DTSTART:20231112T120000Z
DTEND:20231112T140000Z
DTSTAMP:20230829T224449Z
ORGANIZER:MAILTO:Rendszerüzenet - BVSC Zugló
END:VEVENT
BEGIN:VEVENT
UID:69ec19afdf479
SUMMARY:Dunamenti Liga:U7 korosztály
DESCRIPTION:
LOCATION:Szőnyi út 2\, Budapest\, 1142 Közép-Magyarország\, Magyarorsz
 ág
DTSTART:20231119T080000Z
DTEND:20231119T120000Z
DTSTAMP:20231005T192541Z
ORGANIZER:MAILTO:Rendszerüzenet - BVSC Zugló
GEO:47.522299;19.092857
X-APPLE-STRUCTURED-LOCATION;VALUE=URI;X-ADDRESS=Szőnyi út 2\, Budapest\, 
 1142 Közép-Magyarország\, Magyarország;X-APPLE-RADIUS=72;X-TITLE=Szőn
 yi út:47.522299;19.092857
END:VEVENT
BEGIN:VEVENT
UID:69ec19afdf49d
SUMMARY:Dunamenti Liga:U7 korosztály
DESCRIPTION:
LOCATION:Szőnyi út 2\, Budapest\, 1142 Közép-Magyarország\, Magyarorsz
 ág
DTSTART:20231126T080000Z
DTEND:20231126T120000Z
DTSTAMP:20231005T192606Z
ORGANIZER:MAILTO:Rendszerüzenet - BVSC Zugló
GEO:47.522299;19.092857
X-APPLE-STRUCTURED-LOCATION;VALUE=URI;X-ADDRESS=Szőnyi út 2\, Budapest\, 
 1142 Közép-Magyarország\, Magyarország;X-APPLE-RADIUS=72;X-TITLE=Szőn
 yi út:47.522299;19.092857
END:VEVENT
BEGIN:VEVENT
UID:69ec19afdf4c1
SUMMARY:BVSC-Zugló -  Tiszakécske LC
DESCRIPTION:
LOCATION:Szőnyi út 2\, Budapest\, 1142 Közép-Magyarország\, Magyarorsz
 ág
DTSTART:20231126T120000Z
DTEND:20231126T140000Z
DTSTAMP:20230829T224601Z
ORGANIZER:MAILTO:Rendszerüzenet - BVSC Zugló
GEO:47.522299;19.092857
X-APPLE-STRUCTURED-LOCATION;VALUE=URI;X-ADDRESS=Szőnyi út 2\, Budapest\, 
 1142 Közép-Magyarország\, Magyarország;X-APPLE-RADIUS=72;X-TITLE=Szőn
 yi út:47.522299;19.092857
END:VEVENT
BEGIN:VEVENT
UID:69ec19afdf4dd
SUMMARY:Budapest Honvéd - BVSC-Zugló
DESCRIPTION:
DTSTART:20231203T160000Z
DTEND:20231203T180000Z
DTSTAMP:20230829T224706Z
ORGANIZER:MAILTO:Rendszerüzenet - BVSC Zugló
END:VEVENT
BEGIN:VEVENT
UID:69ec19afdf501
SUMMARY:Szombathelyi Haladás - BVSC-Zugló
DESCRIPTION:
DTSTART:20231217T160000Z
DTEND:20231217T180000Z
DTSTAMP:20230829T224926Z
ORGANIZER:MAILTO:Rendszerüzenet - BVSC Zugló
END:VEVENT
BEGIN:VEVENT
UID:69ec19afdf525
SUMMARY:BVSC-Zugló - Győri ETO
DESCRIPTION:
DTSTART:20240204T130000Z
DTEND:20240204T150000Z
DTSTAMP:20230829T225228Z
ORGANIZER:MAILTO:Rendszerüzenet - BVSC Zugló
END:VEVENT
BEGIN:VEVENT
UID:69ec19afdf549
SUMMARY:BVSC-Zugló - Győri ETO
DESCRIPTION:
LOCATION:Teleki Blanka utca 6
DTSTART:20240204T130000Z
DTSTAMP:20240312T143436Z
ORGANIZER:MAILTO:Rendszerüzenet - BVSC Zugló
GEO:47.52376;19.090577
X-APPLE-STRUCTURED-LOCATION;VALUE=URI;X-ADDRESS=Teleki Blanka utca 6;X-APPL
 E-RADIUS=72;X-TITLE=BVSC Stadion:47.52376;19.090577
END:VEVENT
BEGIN:VEVENT
UID:69ec19afdf55a
SUMMARY:Soroksár SC - BVSC-Zugló
DESCRIPTION:
DTSTART:20240211T130000Z
DTSTAMP:20240312T143359Z
ORGANIZER:MAILTO:Rendszerüzenet - BVSC Zugló
END:VEVENT
BEGIN:VEVENT
UID:69ec19afdf573
SUMMARY:Szombathelyi Haladás - BVSC-Zugló
DESCRIPTION:
DTSTART:20240212T160000Z
DTSTAMP:20240312T143320Z
ORGANIZER:MAILTO:Rendszerüzenet - BVSC Zugló
END:VEVENT
BEGIN:VEVENT
UID:69ec19afdf58c
SUMMARY:BVSC-Zugló - BMTE
DESCRIPTION:
LOCATION:Teleki Blanka utca 6
DTSTART:20240218T130000Z
DTSTAMP:20240312T143152Z
ORGANIZER:MAILTO:Rendszerüzenet - BVSC Zugló
GEO:47.52376;19.090577
X-APPLE-STRUCTURED-LOCATION;VALUE=URI;X-ADDRESS=Teleki Blanka utca 6;X-APPL
 E-RADIUS=72;X-TITLE=BVSC Stadion:47.52376;19.090577
END:VEVENT
BEGIN:VEVENT
UID:69ec19afdf5a5
SUMMARY:Szeged Csanád-Grosics Akadémia - BVSC-Zugló
DESCRIPTION:
DTSTART:20240225T160000Z
DTSTAMP:20240312T143109Z
ORGANIZER:MAILTO:Rendszerüzenet - BVSC Zugló
END:VEVENT
BEGIN:VEVENT
UID:69ec19afdf5bd
SUMMARY:BVSC-Zugló - Mosonmagyaróvár TE
DESCRIPTION:
LOCATION:Teleki Blanka utca 6
DTSTART:20240302T130000Z
DTSTAMP:20240312T143003Z
ORGANIZER:MAILTO:Rendszerüzenet - BVSC Zugló
GEO:47.52376;19.090577
X-APPLE-STRUCTURED-LOCATION;VALUE=URI;X-ADDRESS=Teleki Blanka utca 6;X-APPL
 E-RADIUS=72;X-TITLE=BVSC Stadion:47.52376;19.090577
END:VEVENT
BEGIN:VEVENT
UID:69ec19afdf5d6
SUMMARY:Pécsi MFC - BVSC-Zugló
DESCRIPTION:
DTSTART:20240310T160000Z
DTSTAMP:20240312T142256Z
ORGANIZER:MAILTO:Rendszerüzenet - BVSC Zugló
END:VEVENT
BEGIN:VEVENT
UID:69ec19afdf5ff
SUMMARY:BVSC-Zugló - Kazincbarcika SC
DESCRIPTION:
LOCATION:Teleki Blanka utca 6
DTSTART:20240317T130000Z
DTEND:20240317T150000Z
DTSTAMP:20240312T103417Z
ORGANIZER:MAILTO:Rendszerüzenet - BVSC Zugló
GEO:47.52376;19.090577
X-APPLE-STRUCTURED-LOCATION;VALUE=URI;X-ADDRESS=Teleki Blanka utca 6;X-APPL
 E-RADIUS=72;X-TITLE=BVSC Stadion:47.52376;19.090577
END:VEVENT
BEGIN:VEVENT
UID:69ec19afdf624
SUMMARY:BVSC-Zugló - Valdor Szentes
DESCRIPTION:
LOCATION:Szőnyi út 2.
DTSTART:20240330T160000Z
DTSTAMP:20240312T143701Z
ORGANIZER:MAILTO:Rendszerüzenet - BVSC Zugló
GEO:47.523093;19.092965
X-APPLE-STRUCTURED-LOCATION;VALUE=URI;X-ADDRESS=Szőnyi út 2.;X-APPLE-RADI
 US=72;X-TITLE=Laky Károly uszoda:47.523093;19.092965
END:VEVENT
BEGIN:VEVENT
UID:69ec19afdf63d
SUMMARY:Vasas FC - BVSC-Zugló
DESCRIPTION:
DTSTART:20240331T150000Z
DTSTAMP:20240312T124854Z
ORGANIZER:MAILTO:Rendszerüzenet - BVSC Zugló
END:VEVENT
BEGIN:VEVENT
UID:69ec19afdf656
SUMMARY:BVSC-Zugló - FC Ajka 
DESCRIPTION:
LOCATION:Teleki Blanka utca 6
DTSTART:20240414T140000Z
DTSTAMP:20240312T124955Z
ORGANIZER:MAILTO:Rendszerüzenet - BVSC Zugló
GEO:47.52376;19.090577
X-APPLE-STRUCTURED-LOCATION;VALUE=URI;X-ADDRESS=Teleki Blanka utca 6;X-APPL
 E-RADIUS=72;X-TITLE=BVSC Stadion:47.52376;19.090577
END:VEVENT
BEGIN:VEVENT
UID:69ec19afdf66f
SUMMARY:Gyirmót FC Győr - BVSC-Zugló
DESCRIPTION:
DTSTART:20240414T150000Z
DTSTAMP:20240312T125225Z
ORGANIZER:MAILTO:Rendszerüzenet - BVSC Zugló
END:VEVENT
BEGIN:VEVENT
UID:69ec19afdf687
SUMMARY:BFC Siófok - BVSC-Zugló
DESCRIPTION:
DTSTART:20240421T150000Z
DTSTAMP:20240312T125354Z
ORGANIZER:MAILTO:Rendszerüzenet - BVSC Zugló
END:VEVENT
BEGIN:VEVENT
UID:69ec19afdf6a4
SUMMARY:BVSC-Zugló - Aqvital FC Csákvár
DESCRIPTION:
LOCATION:Teleki Blanka utca 6
DTSTART:20240428T150000Z
DTSTAMP:20240312T125457Z
ORGANIZER:MAILTO:Rendszerüzenet - BVSC Zugló
GEO:47.52376;19.090577
X-APPLE-STRUCTURED-LOCATION;VALUE=URI;X-ADDRESS=Teleki Blanka utca 6;X-APPL
 E-RADIUS=72;X-TITLE=BVSC Stadion:47.52376;19.090577
END:VEVENT
BEGIN:VEVENT
UID:69ec19afdf6bd
SUMMARY:HR-Rent Kozármisleny - BVSC-Zugló
DESCRIPTION:
DTSTART:20240505T150000Z
DTSTAMP:20240312T125602Z
ORGANIZER:MAILTO:Rendszerüzenet - BVSC Zugló
END:VEVENT
BEGIN:VEVENT
UID:69ec19afdf6d5
SUMMARY:BVSC-Zugló - Nyíregyháza Spartacus FC
DESCRIPTION:
LOCATION:Teleki Blanka utca 6
DTSTART:20240512T150000Z
DTSTAMP:20240312T125656Z
ORGANIZER:MAILTO:Rendszerüzenet - BVSC Zugló
GEO:47.52376;19.090577
X-APPLE-STRUCTURED-LOCATION;VALUE=URI;X-ADDRESS=Teleki Blanka utca 6;X-APPL
 E-RADIUS=72;X-TITLE=BVSC Stadion:47.52376;19.090577
END:VEVENT
BEGIN:VEVENT
UID:69ec19afdf6ee
SUMMARY:Tiszakécske LC - BVSC-Zugló
DESCRIPTION:
DTSTART:20240519T150000Z
DTSTAMP:20240312T130037Z
ORGANIZER:MAILTO:Rendszerüzenet - BVSC Zugló
END:VEVENT
BEGIN:VEVENT
UID:69ec19afdf707
SUMMARY:BVSC-Zugló - Budapest Honvéd
DESCRIPTION:
LOCATION:Teleki Blanka utca 6
DTSTART:20240526T150000Z
DTSTAMP:20240312T130140Z
ORGANIZER:MAILTO:Rendszerüzenet - BVSC Zugló
GEO:47.52376;19.090577
X-APPLE-STRUCTURED-LOCATION;VALUE=URI;X-ADDRESS=Teleki Blanka utca 6;X-APPL
 E-RADIUS=72;X-TITLE=BVSC Stadion:47.52376;19.090577
END:VEVENT
END:VCALENDAR