BEGIN:VCALENDAR
VERSION:2.0
PRODID:Events Booking
BEGIN:VEVENT
UID:69e81c61d2290
SUMMARY:LEN Eurokupa selejtező - 1. nap
DESCRIPTION:18:30 Bvsc - Ludwisburg
 20:00 Vasas - Mataro
 Az alábbi lin
 ken válthatjátok meg jegyeiteket vagy bérleteiteket a szeptember 22-24.
  közötti mérkőzésekre!tinyurl.com/z7upza5m Hajrá BVSC! 
LOCATION:Szőnyi út 2.
DTSTART:20230922T163000Z
DTEND:20230922T190000Z
DTSTAMP:20230915T192311Z
ORGANIZER:MAILTO:noreply@bvsc.hu
GEO:47.523093;19.092965
X-APPLE-STRUCTURED-LOCATION;VALUE=URI;X-ADDRESS=Szőnyi út 2.;X-APPLE-RADI
 US=72;X-TITLE=Laky Károly uszoda:47.523093;19.092965
END:VEVENT
END:VCALENDAR