BEGIN:VCALENDAR
VERSION:2.0
PRODID:Events Booking
BEGIN:VEVENT
UID:69e81c3a42323
SUMMARY:LEN Eurokupa selejtező - 2. nap
DESCRIPTION:17:30 Bvsc - Mataro
 19:00 Vasas - Ludwisburg
 Az alábbi lin
 ken válthatjátok meg jegyeiteket vagy bérleteiteket a szeptember 22-24.
  közötti mérkőzésekre!tinyurl.com/z7upza5m Hajrá BVSC! 
LOCATION:Szőnyi út 2.
DTSTART:20230923T153000Z
DTEND:20230923T180000Z
DTSTAMP:20230915T192723Z
ORGANIZER:MAILTO:noreply@bvsc.hu
GEO:47.523093;19.092965
X-APPLE-STRUCTURED-LOCATION;VALUE=URI;X-ADDRESS=Szőnyi út 2.;X-APPLE-RADI
 US=72;X-TITLE=Laky Károly uszoda:47.523093;19.092965
END:VEVENT
END:VCALENDAR