BEGIN:VCALENDAR
VERSION:2.0
PRODID:Events Booking
BEGIN:VEVENT
UID:69e81c39d2986
SUMMARY:LEN Eurokupa selejtező - 3. nap
DESCRIPTION:11:30 Mataro - Ludwisburg
 13:00 Bvsc – Vasas
 Az alábbi l
 inken válthatjátok meg jegyeiteket vagy bérleteiteket a szeptember 22-2
 4. közötti mérkőzésekre!tinyurl.com/z7upza5m Hajrá BVSC! 
LOCATION:Szőnyi út 2.
DTSTART:20230924T093000Z
DTEND:20230924T120000Z
DTSTAMP:20230915T192900Z
ORGANIZER:MAILTO:noreply@bvsc.hu
GEO:47.523093;19.092965
X-APPLE-STRUCTURED-LOCATION;VALUE=URI;X-ADDRESS=Szőnyi út 2.;X-APPLE-RADI
 US=72;X-TITLE=Laky Károly uszoda:47.523093;19.092965
END:VEVENT
END:VCALENDAR