BEGIN:VCALENDAR
VERSION:2.0
PRODID:Events Booking
BEGIN:VEVENT
UID:69ebbeeb1745c
SUMMARY:Mikulás kupa 
DESCRIPTION:Vízilabda mikulás kupa kerül megrendezésre 2023 12.09.-én 
 8:30 és 12:00 között az új 25-ös medencében és a mellette lévő ki
 smedencében.
 AZ ESEMÉNY ZÁRTKÖRŰ\, ÍGY IDEJE ALATT AZ ÚJ 25 MÉTE
 RES MEDENCE A KISMEDENCE\, TOVÁBBÁ A SZAUNA ÉS A KONDITEREM\, A KÖZÖN
 SÉG SZÁMÁRA NEM HASZNÁLHATÓ!
 Köszönjük megértésüket!
LOCATION:Szőnyi út 2.
DTSTART:20231209T073000Z
DTEND:20231209T110000Z
DTSTAMP:20231122T130614Z
ORGANIZER:MAILTO:noreply@bvsc.hu
GEO:47.523093;19.092965
X-APPLE-STRUCTURED-LOCATION;VALUE=URI;X-ADDRESS=Szőnyi út 2.;X-APPLE-RADI
 US=72;X-TITLE=Laky Károly uszoda:47.523093;19.092965
END:VEVENT
END:VCALENDAR