BEGIN:VCALENDAR
VERSION:2.0
PRODID:Events Booking
BEGIN:VEVENT
UID:69ebc0aec26f9
SUMMARY:MTK Budapest - BVSC-Zugló
DESCRIPTION:
DTSTART:20231209T160000Z
DTEND:20231209T180000Z
DTSTAMP:20230829T231436Z
ORGANIZER:MAILTO:noreply@bvsc.hu
END:VEVENT
END:VCALENDAR