BEGIN:VCALENDAR
VERSION:2.0
PRODID:Events Booking
BEGIN:VEVENT
UID:69ebd65b8ac00
SUMMARY:Női Serdülő Final8
DESCRIPTION:
LOCATION:Margitsziget\, Budapest\, 1007 Közép-Magyarország\, Magyarorsz
 ág
DTSTART:20220519T220000Z
DTEND:20220521T220000Z
DTSTAMP:20220520T112455Z
ORGANIZER:MAILTO:noreply@bvsc.hu
GEO:47.521572;19.043285
X-APPLE-STRUCTURED-LOCATION;VALUE=URI;X-ADDRESS=Margitsziget\, Budapest\, 1
 007 Közép-Magyarország\, Magyarország;X-APPLE-RADIUS=72;X-TITLE=Hajós
  Alfréd Uszoda:47.521572;19.043285
END:VEVENT
END:VCALENDAR