BEGIN:VCALENDAR
VERSION:2.0
PRODID:Events Booking
BEGIN:VEVENT
UID:69e836461458c
SUMMARY:PalanoutoTrieste - BVSC-Zugló
DESCRIPTION:
DTSTART:20231125T173000Z
DTEND:20231125T183000Z
DTSTAMP:20231113T155551Z
ORGANIZER:MAILTO:noreply@bvsc.hu
END:VEVENT
END:VCALENDAR