BEGIN:VCALENDAR
VERSION:2.0
PRODID:Events Booking
BEGIN:VEVENT
UID:69e834822430a
SUMMARY:Primorje - BVSC-Zugló
DESCRIPTION:
DTSTART:20231209T190000Z
DTEND:20231209T200000Z
DTSTAMP:20231021T120903Z
ORGANIZER:MAILTO:noreply@bvsc.hu
END:VEVENT
END:VCALENDAR