BEGIN:VCALENDAR
VERSION:2.0
PRODID:Events Booking
BEGIN:VEVENT
UID:69ec19ffc8bd7
SUMMARY:Puskás Akadémia II-BVSC
DESCRIPTION:
LOCATION:Fő utca\, Felcsút\, 8086 Dunántúl\, Magyarország
DTSTART:20220522T090000Z
DTEND:20220522T103000Z
DTSTAMP:20220520T114554Z
ORGANIZER:MAILTO:noreply@bvsc.hu
GEO:47.463407;18.584975
X-APPLE-STRUCTURED-LOCATION;VALUE=URI;X-ADDRESS=Fő utca\, Felcsút\, 8086 
 Dunántúl\, Magyarország;X-APPLE-RADIUS=72;X-TITLE=Pancho Aréna:47.4634
 07;18.584975
END:VEVENT
END:VCALENDAR