BEGIN:VCALENDAR
VERSION:2.0
PRODID:Events Booking
BEGIN:VEVENT
UID:69ebebafb3dfd
SUMMARY:Rákosmente KSE - BVSC-Zugló
DESCRIPTION:
DTSTART:20231112T160000Z
DTEND:20231112T173000Z
DTSTAMP:20231019T115539Z
ORGANIZER:MAILTO:noreply@bvsc.hu
END:VEVENT
END:VCALENDAR