BEGIN:VCALENDAR
VERSION:2.0
PRODID:Events Booking
BEGIN:VEVENT
UID:69e8365a11de5
SUMMARY:Spandau 04 Berlin - BVSC-Zugló
DESCRIPTION:Eurokupa
DTSTART:20240309T180000Z
DTSTAMP:20240312T142209Z
ORGANIZER:MAILTO:noreply@bvsc.hu
END:VEVENT
END:VCALENDAR