BEGIN:VCALENDAR
VERSION:2.0
PRODID:Events Booking
BEGIN:VEVENT
UID:69eb80ce0e484
SUMMARY:Szegedi RSE - BVSC-Zugló
DESCRIPTION:
DTSTART:20240114T150000Z
DTEND:20240114T170000Z
DTSTAMP:20230829T231818Z
ORGANIZER:MAILTO:noreply@bvsc.hu
END:VEVENT
END:VCALENDAR