BEGIN:VCALENDAR
VERSION:2.0
PRODID:Events Booking
BEGIN:VEVENT
UID:69e81bff20cfb
SUMMARY:Szegedi VE - BVSC-Zugló - Magyar Kupa
DESCRIPTION:
DTSTART:20230916T130000Z
DTEND:20230916T140000Z
DTSTAMP:20230915T193149Z
ORGANIZER:MAILTO:noreply@bvsc.hu
END:VEVENT
END:VCALENDAR