BEGIN:VCALENDAR
VERSION:2.0
PRODID:Events Booking
BEGIN:VEVENT
UID:69ebd4afdaefd
SUMMARY:Szolnok - BVSC
DESCRIPTION:
DTSTART:20221022T160000Z
DTEND:20221022T173000Z
DTSTAMP:20260424T223807Z
ORGANIZER:MAILTO:noreply@bvsc.hu
END:VEVENT
END:VCALENDAR