BEGIN:VCALENDAR
VERSION:2.0
PRODID:Events Booking
BEGIN:VEVENT
UID:69e81bd4d2de2
SUMMARY:Tatabánya - BVSC-Zugló
DESCRIPTION:
DTSTART:20231011T110000Z
DTEND:20231011T120000Z
DTSTAMP:20231002T132340Z
ORGANIZER:MAILTO:noreply@bvsc.hu
END:VEVENT
END:VCALENDAR