BEGIN:VCALENDAR
VERSION:2.0
PRODID:Events Booking
BEGIN:VEVENT
UID:69e81c3280069
SUMMARY:Tatabányai VSE - BVSC-Zugló
DESCRIPTION:
DTSTART:20230911T170000Z
DTEND:20230911T180000Z
DTSTAMP:20230829T225748Z
ORGANIZER:MAILTO:noreply@bvsc.hu
END:VEVENT
END:VCALENDAR