BEGIN:VCALENDAR
VERSION:2.0
PRODID:Events Booking
BEGIN:VEVENT
UID:69e8236bd5ccb
SUMMARY:TFSE - BVSC-Zugló
DESCRIPTION:
DTSTART:20231007T140000Z
DTEND:20231007T160000Z
DTSTAMP:20230829T230201Z
ORGANIZER:MAILTO:noreply@bvsc.hu
END:VEVENT
END:VCALENDAR