BEGIN:VCALENDAR
VERSION:2.0
PRODID:Events Booking
BEGIN:VEVENT
UID:69e83659e3eaf
SUMMARY:Tigra-ZF-Eger - BVSC-Zugló
DESCRIPTION:
DTSTART:20240306T190000Z
DTEND:20240306T200000Z
DTSTAMP:20240312T102743Z
ORGANIZER:MAILTO:noreply@bvsc.hu
END:VEVENT
END:VCALENDAR